BEGIN:VCALENDAR
VERSION:2.0
PRODID:-//wp-events-plugin.com//7.2.3.1//EN
TZID:Europe/Paris
X-WR-TIMEZONE:Europe/Paris
BEGIN:VEVENT
UID:10@veyrier-du-lac.fr
DTSTART;TZID=Europe/Paris:20231215T173000
DTEND;TZID=Europe/Paris:20231215T193000
DTSTAMP:20231214T112729Z
URL:https://www.veyrier-du-lac.fr/events/1576/
SUMMARY:Vestiges et résidus
DESCRIPTION:Court métrage réalisé par l’association "I clean my lake" 
 en partenariat avec le Fondation "Eau Neige et Glace"\, la cinémathèque 
 et "Wooloomooloo production". Celui-ci traite de l’empreinte humaine sur
  les écosystèmes en parallèle du développement démographique sur les 
 rives du lac.\nLa projection est complétée par une exposition d’œuvre
 s réalisées par des artistes de l’ESAAA.\nVendredi 15 décembre entre 
 17h30 et 19h30 à la cinémathèque.
ATTACH;FMTTYPE=image/jpeg:https://www.veyrier-du-lac.fr/wp-content/uploads
 /2023/12/Residus.jpg
LOCATION:Cinémathèque\, 12 bis Route d'Annecy\, VEYRIER DU LAC\, Rhône-A
 lpes\, 74290\, France
X-APPLE-STRUCTURED-LOCATION;VALUE=URI;X-ADDRESS=12 bis Route d'Annecy\, VEY
 RIER DU LAC\, Rhône-Alpes\, 74290\, France;X-APPLE-RADIUS=100;X-TITLE=Cin
 émathèque:geo:0,0
END:VEVENT
BEGIN:VTIMEZONE
TZID:Europe/Paris
X-LIC-LOCATION:Europe/Paris
BEGIN:STANDARD
DTSTART:20231029T020000
TZOFFSETFROM:+0200
TZOFFSETTO:+0100
TZNAME:CET
END:STANDARD
END:VTIMEZONE
END:VCALENDAR