BEGIN:VCALENDAR
VERSION:2.0
PRODID:-//wp-events-plugin.com//7.2.3.1//EN
TZID:Europe/Paris
X-WR-TIMEZONE:Europe/Paris
BEGIN:VEVENT
UID:112@veyrier-du-lac.fr
DTSTART;TZID=Europe/Paris:20260426T000000
DTEND;TZID=Europe/Paris:20260426T000000
DTSTAMP:20260309T082553Z
URL:https://www.veyrier-du-lac.fr/events/farfouille-de-printemps-26-avril-
 2026/
SUMMARY:Farfouille de printemps - 26 avril 2026
DESCRIPTION:Veyrier-Patrimoine vous attend nombreux pour chiner et peut-êt
 re trouver de véritables trésors chez les exposants. Dans tous les cas\,
  pour passer un bon moment sur le port de Veyrier !\nDimanche 26 avril 202
 6  – Quai du Général Doyen\, Veyrier-du-Lac\n\nPour réserver votre e
 mplacement\, merci de contacter l’association par courriel : farfouille.
 veyrier@gmail.com\nTéléchargez les documents d’inscription en cliquant
  sur les liens suivants :\n\nAttestation sur l’honneur\n\nRéglement
ATTACH;FMTTYPE=image/jpeg:https://www.veyrier-du-lac.fr/wp-content/uploads
 /2026/03/AFFICHE-2026-Copie.jpg
LOCATION:Quai du Général Doyen\, Quai du Général Doyen\, VEYRIER DU LAC
 \, Rhône-Alpes\, 74290\, France
X-APPLE-STRUCTURED-LOCATION;VALUE=URI;X-ADDRESS=Quai du Général Doyen\, V
 EYRIER DU LAC\, Rhône-Alpes\, 74290\, France;X-APPLE-RADIUS=100;X-TITLE=Q
 uai du Général Doyen:geo:0,0
END:VEVENT
BEGIN:VTIMEZONE
TZID:Europe/Paris
X-LIC-LOCATION:Europe/Paris
BEGIN:DAYLIGHT
DTSTART:20260329T030000
TZOFFSETFROM:+0100
TZOFFSETTO:+0200
TZNAME:CEST
END:DAYLIGHT
END:VTIMEZONE
END:VCALENDAR