BEGIN:VCALENDAR
VERSION:2.0
PRODID:-//wp-events-plugin.com//7.2.3.1//EN
TZID:Europe/Paris
X-WR-TIMEZONE:Europe/Paris
BEGIN:VEVENT
UID:7@veyrier-du-lac.fr
DTSTART;TZID=Europe/Paris:20231210T100000
DTEND;TZID=Europe/Paris:20231210T170000
DTSTAMP:20231208T084213Z
URL:https://www.veyrier-du-lac.fr/events/fete-de-noel/
SUMMARY:Fête de Noël
DESCRIPTION:- ouverture au public de 10h à 17h\n\n- Stands et buvettes ten
 us par les associations de la commune\n- Photo avec le père Noël\n- cont
 es de Noël de 11h à 11h45 puis de 16h à 16h45 en salle consulaire\n- Je
 ux d'adresse en extérieur\n- Chorale "Good News Gospel" à 13h\n- Karaok
 é 14h-17h
ATTACH;FMTTYPE=image/jpeg:https://www.veyrier-du-lac.fr/wp-content/uploads
 /2023/11/veyrier_noel_2023_03.png
END:VEVENT
BEGIN:VTIMEZONE
TZID:Europe/Paris
X-LIC-LOCATION:Europe/Paris
BEGIN:STANDARD
DTSTART:20231029T020000
TZOFFSETFROM:+0200
TZOFFSETTO:+0100
TZNAME:CET
END:STANDARD
END:VTIMEZONE
END:VCALENDAR