BEGIN:VCALENDAR
VERSION:2.0
PRODID:-//wp-events-plugin.com//7.2.3.1//EN
TZID:Europe/Paris
X-WR-TIMEZONE:Europe/Paris
BEGIN:VEVENT
UID:14@veyrier-du-lac.fr
DTSTART;TZID=Europe/Paris:20240516T190000
DTEND;TZID=Europe/Paris:20240516T220000
DTSTAMP:20240215T170328Z
URL:https://www.veyrier-du-lac.fr/events/fresque-de-la-biodiversite-2/
SUMMARY:Fresque de la biodiversité
DESCRIPTION:Découvrez\, au travers d'un atelier ludique et collaboratif\, 
 l'aspect systémique de l'érosion de la biodiversité : ce qu’elle est\
 , ce qu’elle permet et ce qui la dégrade.\nAtelier de 3 heures ouvert 
 à toutes et à tous (lycéens et adultes).\n jeudi soir 15 février de 1
 9h à 22h à  Veyrier-du-Lac\n\nPour vous inscrire\, gratuitement\, à u
 n atelier\, envoyez-nous un mail à l'adresse fresqueriveest@gmail.com\n\
 n&nbsp\;\n\nPage Facebook: Ateliers éco-ludiques en Haute-Savoie\nCalend
 rier des ateliers: www.fresqueriveest.org
ATTACH;FMTTYPE=image/jpeg:https://www.veyrier-du-lac.fr/wp-content/uploads
 /2024/01/fresque-bio.jpg
LOCATION:Salle de musique\, Eglise (Presbytère entrée sur le côté droit
 )\, VEYRIER DU LAC\, Rhône-Alpes\, 74290\, France
X-APPLE-STRUCTURED-LOCATION;VALUE=URI;X-ADDRESS=Eglise (Presbytère entrée
  sur le côté droit)\, VEYRIER DU LAC\, Rhône-Alpes\, 74290\, France;X-A
 PPLE-RADIUS=100;X-TITLE=Salle de musique:geo:0,0
END:VEVENT
BEGIN:VTIMEZONE
TZID:Europe/Paris
X-LIC-LOCATION:Europe/Paris
BEGIN:DAYLIGHT
DTSTART:20240331T030000
TZOFFSETFROM:+0100
TZOFFSETTO:+0200
TZNAME:CEST
END:DAYLIGHT
END:VTIMEZONE
END:VCALENDAR