BEGIN:VCALENDAR
VERSION:2.0
PRODID:-//wp-events-plugin.com//7.2.3.1//EN
TZID:Europe/Paris
X-WR-TIMEZONE:Europe/Paris
BEGIN:VEVENT
UID:12@veyrier-du-lac.fr
DTSTART;TZID=Europe/Paris:20240307T190000
DTEND;TZID=Europe/Paris:20240307T220000
DTSTAMP:20240215T170142Z
URL:https://www.veyrier-du-lac.fr/events/fresque-de-leau/
SUMMARY:Fresque de l'eau
DESCRIPTION:Cet atelier permet de construire une vision globale du cycle de
  l’eau et de découvrir les enjeux liés à l’eau\, sa disponibilité\
 , ses usages et leur sensibilité face au changement climatique.\nAtelier 
 ludique de 3 heures ouvert à toutes et à tous (lycéens et adultes).\nPo
 ur vous inscrire\, gratuitement\, à un atelier\, envoyez-nous un mail à
  l'adresse fresqueriveest@gmail.com\n\n&nbsp\;\n\nPage Facebook: Atelier
 s éco-ludiques en Haute-Savoie\nCalendrier des ateliers: www.fresquerive
 est.org
ATTACH;FMTTYPE=image/jpeg:https://www.veyrier-du-lac.fr/wp-content/uploads
 /2024/01/fresque-eau.jpg
LOCATION:Salle de musique\, Eglise (Presbytère entrée sur le côté droit
 )\, VEYRIER DU LAC\, Rhône-Alpes\, 74290\, France
X-APPLE-STRUCTURED-LOCATION;VALUE=URI;X-ADDRESS=Eglise (Presbytère entrée
  sur le côté droit)\, VEYRIER DU LAC\, Rhône-Alpes\, 74290\, France;X-A
 PPLE-RADIUS=100;X-TITLE=Salle de musique:geo:0,0
END:VEVENT
BEGIN:VTIMEZONE
TZID:Europe/Paris
X-LIC-LOCATION:Europe/Paris
BEGIN:STANDARD
DTSTART:20231029T020000
TZOFFSETFROM:+0200
TZOFFSETTO:+0100
TZNAME:CET
END:STANDARD
END:VTIMEZONE
END:VCALENDAR