BEGIN:VCALENDAR
VERSION:2.0
PRODID:-//wp-events-plugin.com//7.2.3.1//EN
TZID:Europe/Paris
X-WR-TIMEZONE:Europe/Paris
BEGIN:VEVENT
UID:9@veyrier-du-lac.fr
DTSTART;TZID=Europe/Paris:20240120T170000
DTEND;TZID=Europe/Paris:20240120T200000
DTSTAMP:20240116T143106Z
URL:https://www.veyrier-du-lac.fr/events/voeux-du-maire/
SUMMARY:Voeux du Maire
DESCRIPTION:\n\n16 h : Accueil des nouveaux habitants\n\n17 h : Cérémonie
  des vœux de Madame le Maire.
ATTACH;FMTTYPE=image/jpeg:https://www.veyrier-du-lac.fr/wp-content/uploads
 /2023/12/voeux-24-gd-e1705392879452.jpg
LOCATION:Salle de la Veyrière\, École publique\, VEYRIER DU LAC\, Rhône-
 Alpes\, 74290\, France
X-APPLE-STRUCTURED-LOCATION;VALUE=URI;X-ADDRESS=École publique\, VEYRIER D
 U LAC\, Rhône-Alpes\, 74290\, France;X-APPLE-RADIUS=100;X-TITLE=Salle de 
 la Veyrière:geo:0,0
END:VEVENT
BEGIN:VTIMEZONE
TZID:Europe/Paris
X-LIC-LOCATION:Europe/Paris
BEGIN:STANDARD
DTSTART:20231029T020000
TZOFFSETFROM:+0200
TZOFFSETTO:+0100
TZNAME:CET
END:STANDARD
END:VTIMEZONE
END:VCALENDAR